BEGIN:VCALENDAR
VERSION:2.0
PRODID:-//SEGYTOUR-Termine - ECPv6.15.20//NONSGML v1.0//EN
CALSCALE:GREGORIAN
METHOD:PUBLISH
X-ORIGINAL-URL:https://wocadlo.de/termine
X-WR-CALDESC:Veranstaltungen für SEGYTOUR-Termine
REFRESH-INTERVAL;VALUE=DURATION:PT1H
X-Robots-Tag:noindex
X-PUBLISHED-TTL:PT1H
BEGIN:VTIMEZONE
TZID:Europe/Berlin
BEGIN:DAYLIGHT
TZOFFSETFROM:+0100
TZOFFSETTO:+0200
TZNAME:CEST
DTSTART:20250330T010000
END:DAYLIGHT
BEGIN:STANDARD
TZOFFSETFROM:+0200
TZOFFSETTO:+0100
TZNAME:CET
DTSTART:20251026T010000
END:STANDARD
BEGIN:DAYLIGHT
TZOFFSETFROM:+0100
TZOFFSETTO:+0200
TZNAME:CEST
DTSTART:20260329T010000
END:DAYLIGHT
BEGIN:STANDARD
TZOFFSETFROM:+0200
TZOFFSETTO:+0100
TZNAME:CET
DTSTART:20261025T010000
END:STANDARD
BEGIN:DAYLIGHT
TZOFFSETFROM:+0100
TZOFFSETTO:+0200
TZNAME:CEST
DTSTART:20270328T010000
END:DAYLIGHT
BEGIN:STANDARD
TZOFFSETFROM:+0200
TZOFFSETTO:+0100
TZNAME:CET
DTSTART:20271031T010000
END:STANDARD
END:VTIMEZONE
BEGIN:VEVENT
DTSTART;TZID=Europe/Berlin:20260419T110000
DTEND;TZID=Europe/Berlin:20260419T153000
DTSTAMP:20260419T223007
CREATED:20221116T145947Z
LAST-MODIFIED:20251027T123135Z
UID:5476-1776596400-1776612600@wocadlo.de
SUMMARY:Segway-Tour mit Führung auf dem Skywalk Willingen - Plätze frei
DESCRIPTION:Segway-Tour mit Führung auf dem Skywalk Willingen\nErleben Sie eine unvergessliche Segway-Tour durch Willingen und genießen Sie die spektakuläre Aussicht vom Skywalk Willingen!\nFreuen Sie sich auf eine abwechslungsreiche Rundfahrt mit dem Segway zur Diemelquelle\, zur EWF Biathlon Arena\, zur Mühlenkopfschanze und einem geführten Besuch auf dem Skywalk Willingen – Deutschlands längster Hängebrücke.\nIhnen wird ein beeindruckender Blick auf das berühmte Viadukt der Uplandbahn geboten\, sowie auf den Hochheideturm\, dessen Plattform den höchsten Aussichtspunkt in Nordwestdeutschland darstellt. \nZusätzlich werden wir die Graf Stolberg Hütte zu besuchen. \nPreis:          98 Euro pro Person  \n                    – optional Besuch der Graf Stolberg Hütte \n                    – incl. Anfahrt Eingang Musenberg SKYWALK Willingen \n                    – incl. Eintritt SKYWALK Willingen \n                    – incl. Führung auf dem SKYWALK Willingen  \nDauer:      ca. 3\,5 Stunden + 1 Stunde Besuch der Graf Stolberg Hütte \nInfos:          https://segytour.de/segway-skywalk-willingen \n 
URL:https://wocadlo.de/termine/event/segwaytour-skywalk-willingen-kolk-jobse/
LOCATION:Parkplatz Landgasthof Wakenfeld Hochsauerlandstraße 43\, 34508 Willingen (Upland)\, Hochsauerlandstraße 43\, Willingen\, 34508
CATEGORIES:freie Plätze
ATTACH;FMTTYPE=image/jpeg:https://wocadlo.de/termine/wp-content/uploads/2018/02/Segwaytour-Willingen-Bild-01-Muehlenkopfschanze.jpg
ORGANIZER;CN="SEGYTOUR":MAILTO:info@segytour.de
END:VEVENT
END:VCALENDAR