BEGIN:VCALENDAR
VERSION:2.0
PRODID:-//SEGYTOUR-Termine - ECPv6.15.20//NONSGML v1.0//EN
CALSCALE:GREGORIAN
METHOD:PUBLISH
X-ORIGINAL-URL:https://wocadlo.de/termine
X-WR-CALDESC:Veranstaltungen für SEGYTOUR-Termine
REFRESH-INTERVAL;VALUE=DURATION:PT1H
X-Robots-Tag:noindex
X-PUBLISHED-TTL:PT1H
BEGIN:VTIMEZONE
TZID:Europe/Berlin
BEGIN:DAYLIGHT
TZOFFSETFROM:+0100
TZOFFSETTO:+0200
TZNAME:CEST
DTSTART:20250330T010000
END:DAYLIGHT
BEGIN:STANDARD
TZOFFSETFROM:+0200
TZOFFSETTO:+0100
TZNAME:CET
DTSTART:20251026T010000
END:STANDARD
BEGIN:DAYLIGHT
TZOFFSETFROM:+0100
TZOFFSETTO:+0200
TZNAME:CEST
DTSTART:20260329T010000
END:DAYLIGHT
BEGIN:STANDARD
TZOFFSETFROM:+0200
TZOFFSETTO:+0100
TZNAME:CET
DTSTART:20261025T010000
END:STANDARD
BEGIN:DAYLIGHT
TZOFFSETFROM:+0100
TZOFFSETTO:+0200
TZNAME:CEST
DTSTART:20270328T010000
END:DAYLIGHT
BEGIN:STANDARD
TZOFFSETFROM:+0200
TZOFFSETTO:+0100
TZNAME:CET
DTSTART:20271031T010000
END:STANDARD
END:VTIMEZONE
BEGIN:VEVENT
DTSTART;TZID=Europe/Berlin:20260502T110000
DTEND;TZID=Europe/Berlin:20260502T133000
DTSTAMP:20260419T224829
CREATED:20220212T113317Z
LAST-MODIFIED:20260323T121444Z
UID:5500-1777719600-1777728600@wocadlo.de
SUMMARY:Segwaytour Edersee-Rehbach  Plätze frei
DESCRIPTION:SEGWAYTOUR REHBACH\nEntdecken Sie die beeindruckenden Naturschönheiten und kulturellen Höhepunkte des Ederseewestufers bei einer Segway-Tour!\nUnsere Fahrt beginnt im Wildtierpark und führt uns nach Rehbach. Vom Hafenbecken in Rehbach aus genießen Sie einen herrlichen Rundblick. Im Süden sehen Sie die bewaldeten Berge des Nationalparks Kellerwald-Edersee (UNESCO-Weltnaturerbe)\, im Westen die Halbinsel Scheid und im Norden die malerische Niederwerber Bucht. Anschließend geht es entlang des Ederseewestufers\, vorbei am Treetopwalk\, zum Aquapark und zur Sperrmauer\, bevor wir zurück zum Tierpark fahren. \n 
URL:https://wocadlo.de/termine/event/edersee_segway_haas_02mai2026/
LOCATION:Parkplatz am WildtierPark Edersee\, Parkplatz am Wildpark Edersee\, Hemfurth-Edertal\, 34549\, Deutschland
CATEGORIES:freie Plätze
ATTACH;FMTTYPE=image/jpeg:https://wocadlo.de/termine/wp-content/uploads/2022/02/Edersee-Rehbach-scaled.jpg
ORGANIZER;CN="SEGYTOUR":MAILTO:info@segytour.de
END:VEVENT
BEGIN:VEVENT
DTSTART;TZID=Europe/Berlin:20260515T110000
DTEND;TZID=Europe/Berlin:20260515T110000
DTSTAMP:20260419T224829
CREATED:20230821T200107Z
LAST-MODIFIED:20260102T151439Z
UID:5288-1778842800-1778842800@wocadlo.de
SUMMARY:Segwaytour Edersee NationalparkZentrum Kellerwald Himmelsbreite - 5 Plätze frei
DESCRIPTION:Sie fahren mit dem Segway® vom NationalparkZentrum Kellerwald zum Nationalparkeingang Himmelsbreite.\nDort sehen Sie bei einem Fußmarsch die werdende Wildnis\, das heißt Natur\, die sich jetzt ohne menschliche Einflüsse entwickeln kann. Danach fahren Sie mit dem Segway® Richtung Harbshausen – mit Blick auf den Edersee – und zurück zum Nationalpark- Zentrum Kellerwald. Es erwartet Sie eine abenteuerliche Tour mit vielen Geschichten über den Edersee und den Nationalpark Kellerwald-Edersee.
URL:https://wocadlo.de/termine/event/nationalparkzentrum-kellerwald-himmelsbreite-wieczorek/
LOCATION:Parkplatz NationalparkZentrum Kellerwald\, Weg zur Wildnis 1\, Vöhl-Herzhausen\, 34516\, Deutschland
CATEGORIES:freie Plätze
ATTACH;FMTTYPE=image/jpeg:https://wocadlo.de/termine/wp-content/uploads/2022/02/DSCF3036-scaled.jpg
ORGANIZER;CN="SEGYTOUR":MAILTO:info@segytour.de
END:VEVENT
BEGIN:VEVENT
DTSTART;TZID=Europe/Berlin:20260516T103000
DTEND;TZID=Europe/Berlin:20260516T130000
DTSTAMP:20260419T224829
CREATED:20220212T113317Z
LAST-MODIFIED:20260413T101049Z
UID:5558-1778927400-1778936400@wocadlo.de
SUMMARY:Segwaytour Edersee-Rehbach  2 Plätze frei
DESCRIPTION:SEGWAYTOUR REHBACH\nEntdecken Sie die beeindruckenden Naturschönheiten und kulturellen Höhepunkte des Ederseewestufers bei einer Segway-Tour!\nUnsere Fahrt beginnt im Wildtierpark und führt uns nach Rehbach. Vom Hafenbecken in Rehbach aus genießen Sie einen herrlichen Rundblick. Im Süden sehen Sie die bewaldeten Berge des Nationalparks Kellerwald-Edersee (UNESCO-Weltnaturerbe)\, im Westen die Halbinsel Scheid und im Norden die malerische Niederwerber Bucht. Anschließend geht es entlang des Ederseewestufers\, vorbei am Treetopwalk\, zum Aquapark und zur Sperrmauer\, bevor wir zurück zum Tierpark fahren. \n 
URL:https://wocadlo.de/termine/event/edersee_segway_janakat/
LOCATION:Parkplatz am WildtierPark Edersee\, Parkplatz am Wildpark Edersee\, Hemfurth-Edertal\, 34549\, Deutschland
CATEGORIES:freie Plätze
ATTACH;FMTTYPE=image/jpeg:https://wocadlo.de/termine/wp-content/uploads/2022/02/Edersee-Rehbach-scaled.jpg
ORGANIZER;CN="SEGYTOUR":MAILTO:info@segytour.de
END:VEVENT
BEGIN:VEVENT
DTSTART;TZID=Europe/Berlin:20260516T150000
DTEND;TZID=Europe/Berlin:20260516T173000
DTSTAMP:20260419T224829
CREATED:20220212T113317Z
LAST-MODIFIED:20260419T184505Z
UID:5564-1778943600-1778952600@wocadlo.de
SUMMARY:Segwaytour Edersee-Rehbach  2 Plätze frei
DESCRIPTION:SEGWAYTOUR REHBACH\nEntdecken Sie die beeindruckenden Naturschönheiten und kulturellen Höhepunkte des Ederseewestufers bei einer Segway-Tour!\nUnsere Fahrt beginnt im Wildtierpark und führt uns nach Rehbach. Vom Hafenbecken in Rehbach aus genießen Sie einen herrlichen Rundblick. Im Süden sehen Sie die bewaldeten Berge des Nationalparks Kellerwald-Edersee (UNESCO-Weltnaturerbe)\, im Westen die Halbinsel Scheid und im Norden die malerische Niederwerber Bucht. Anschließend geht es entlang des Ederseewestufers\, vorbei am Treetopwalk\, zum Aquapark und zur Sperrmauer\, bevor wir zurück zum Tierpark fahren. \n 
URL:https://wocadlo.de/termine/event/edersee_segway_loewe/
LOCATION:Parkplatz am WildtierPark Edersee\, Parkplatz am Wildpark Edersee\, Hemfurth-Edertal\, 34549\, Deutschland
CATEGORIES:freie Plätze
ATTACH;FMTTYPE=image/jpeg:https://wocadlo.de/termine/wp-content/uploads/2022/02/Edersee-Rehbach-scaled.jpg
ORGANIZER;CN="SEGYTOUR":MAILTO:info@segytour.de
END:VEVENT
BEGIN:VEVENT
DTSTART;TZID=Europe/Berlin:20260518T093000
DTEND;TZID=Europe/Berlin:20260518T120000
DTSTAMP:20260419T224829
CREATED:20221117T142557Z
LAST-MODIFIED:20260408T181547Z
UID:5538-1779096600-1779105600@wocadlo.de
SUMMARY:Geführte Geocaching-Tour in Marburg - 2 Gruppen
DESCRIPTION:Lassen Sie sich entführen zu einer geführten Geocaching-Tour durch die Altstadt von Marburg. Vorbei am Botanischen Garten\, der Elisabethkirche\, dem Steinweg\, dem „Christian“\, der letzte Marburger Dienstmann\, der Marburger Synagoge\, dem „Stein Haus“\, dem drei-geschossigen Marburger Rathaus\, der Alten Universität\, der Barfüsserstraße\, der Kugelkirche\, dem Kalbstor\, der Lutherkirche\, dem Zeughaus und dem Schloss mit GPS-Gerät\, Karte\, Laser und UV Lampe.\nDie außergewöhnliche Kombination von schöner Natur und moderner Technik macht dieses Abenteuer so anziehend. Sie sammeln Hinweise und lösen Rätsel\, um die richtige Route herauszufinden. Mit dem GPS-Gerät folgen Sie den Rätsel- Spuren und kommen so dem Schatz Etappe für Etappe näher. \nDie Gäste ziehen Nummern und sind dadurch „Kümmerer“ für das nummerische Rätsel. Dadurch muss sich jeder Gast bei 25 Aufgaben bei 2 Gruppen mit 20 Gästen um die Lösung von mind. zwei bis drei Aufgaben mit seinen Kollegen kümmern. \nBei dieser geführten Tour auf einer inszenierten Route werden Sie mit 2 Gruppen gleichzeitig 25 Aufgaben in unterschiedlicher Reihenfolge lösen\, knifflige Fragen beantworten und all Ihr Geschick aufbieten. Sie:\n– suchen Lösungshinweise mit Hilfe eines Lasers\n– suchen Lösungshinweise mit Hilfe eines Kryptex\n– suchen unsichtbare Hinweise mit einer UV-Lampe\n– navigieren mit GPS\n– navigieren mit Peilkompass eine Wegpunktprojektion\n– orientieren sich mit dem Kompass\n– lösen Rätsel über Flora- und Fauna\, Märchen\, Logik\num am Ende den Schatz zu entdecken.\nAm Ziel angekommen gibt es eine Siegerehrung mit einer Überraschung.
URL:https://wocadlo.de/termine/event/geocaching-tour-marburg_wolf/
LOCATION:Marburg – alter Botanischer Garten – bei Fischjunge Statue\, Botanischer Garten\, Marburg\, 35037
ATTACH;FMTTYPE=image/jpeg:https://wocadlo.de/termine/wp-content/uploads/2022/02/geocaching.jpg
ORGANIZER;CN="SEGYTOUR Geocaching":MAILTO:info@wocadlo.de
END:VEVENT
BEGIN:VEVENT
DTSTART;TZID=Europe/Berlin:20260519T080000
DTEND;TZID=Europe/Berlin:20260519T100000
DTSTAMP:20260419T224829
CREATED:20221117T142557Z
LAST-MODIFIED:20260204T121953Z
UID:5511-1779177600-1779184800@wocadlo.de
SUMMARY:Geführte Geocaching Marburg - 2 Gruppen mit 32 Personen
DESCRIPTION:Geocaching Altstadt Marburg\nLassen Sie sich auf eine geführte Geocaching-Tour durch die malerische Altstadt von Marburg entführen. Die Route führt Sie vorbei am Botanischen Garten\, der Elisabethkirche\, dem Steinweg\, dem „Christian“\, der Marburger Synagoge\, dem „Stein Haus“\, dem beeindruckenden drei-geschossigen Marburger Rathaus\, der Alten Universität\, der Barfüsserstraße\, der Kugelkirche\, dem Kalbstor\, der Lutherkirche\, dem Zeughaus und dem Schloss. Ausgestattet mit einem GPS-Gerät\, einer Karte\, einem Laser und einer UV-Lampe erleben Sie ein spannendes Abenteuer.\nDie einzigartige Verbindung von schöner Natur und moderner Technologie macht diese Tour besonders reizvoll. Sie sammeln Hinweise und lösen Rätsel\, um den richtigen Weg zu finden. Mit dem GPS-Gerät folgen Sie den Spuren der Rätsel und nähern sich so Schritt für Schritt dem verborgenen Schatz. \nDie Gäste ziehen Nummern und sind dadurch „Kümmerer“ für das nummerische Rätsel. Dadurch muss sich jeder Gast mind. eine bis zwei Aufgaben mit seinen Kollegen*innen kümmern. \nBei dieser geführten Tour auf einer inszenierten Route werden Sie gemeinsam mit 2 Gruppen gleichzeitig mind. 16 Aufgaben in unterschiedlicher Reihenfolge bewältigen\, knifflige Fragen beantworten und all Ihr Können unter Beweis stellen. Sie werden: \n\nLösungshinweise mit Hilfe eines Lasers suchen\nLösungshinweise mit einem Kryptex entdecken\nunsichtbare Hinweise mit einer UV-Lampe aufspüren\nmit GPS navigieren\nmit einem Peilkompass eine Wegpunktprojektion durchführen\nsich mit einem Kompass orientieren\nRätsel zu Flora und Fauna\, Märchen und Logik lösen\n\num schließlich den Schatz zu finden. Am Ziel angekommen erwartet Sie eine Siegerehrung mit einer Überraschung.
URL:https://wocadlo.de/termine/event/geocaching-vilavita-20260519/
LOCATION:VILA VITA Marburg\, Anneliese Pohl Allee 17\, Marburg\, 35037
ATTACH;FMTTYPE=image/jpeg:https://wocadlo.de/termine/wp-content/uploads/2022/02/geocaching.jpg
ORGANIZER;CN="SEGYTOUR Geocaching":MAILTO:info@wocadlo.de
END:VEVENT
BEGIN:VEVENT
DTSTART;TZID=Europe/Berlin:20260524T150000
DTEND;TZID=Europe/Berlin:20260524T173000
DTSTAMP:20260419T224829
CREATED:20230821T200107Z
LAST-MODIFIED:20260401T184813Z
UID:5544-1779634800-1779643800@wocadlo.de
SUMMARY:Segwaytour Edersee NationalparkZentrum Kellerwald Himmelsbreite - 5 Plätze frei
DESCRIPTION:Sie fahren mit dem Segway® vom NationalparkZentrum Kellerwald zum Nationalparkeingang Himmelsbreite.\nDort sehen Sie bei einem Fußmarsch die werdende Wildnis\, das heißt Natur\, die sich jetzt ohne menschliche Einflüsse entwickeln kann. Danach fahren Sie mit dem Segway® Richtung Harbshausen – mit Blick auf den Edersee – und zurück zum Nationalpark- Zentrum Kellerwald. Es erwartet Sie eine abenteuerliche Tour mit vielen Geschichten über den Edersee und den Nationalpark Kellerwald-Edersee.
URL:https://wocadlo.de/termine/event/nationalparkzentrum-kellerwald-himmelsbreite-noell/
LOCATION:Parkplatz NationalparkZentrum Kellerwald\, Weg zur Wildnis 1\, Vöhl-Herzhausen\, 34516\, Deutschland
CATEGORIES:freie Plätze
ATTACH;FMTTYPE=image/jpeg:https://wocadlo.de/termine/wp-content/uploads/2022/02/DSCF3036-scaled.jpg
ORGANIZER;CN="SEGYTOUR":MAILTO:info@segytour.de
END:VEVENT
BEGIN:VEVENT
DTSTART;TZID=Europe/Berlin:20260530T100000
DTEND;TZID=Europe/Berlin:20260530T123000
DTSTAMP:20260419T224829
CREATED:20220212T173630Z
LAST-MODIFIED:20260409T185319Z
UID:5551-1780135200-1780144200@wocadlo.de
SUMMARY:Geocaching-Tour Waldeck am Edersee
DESCRIPTION:Beschreibung: Lassen Sie sich entführen zu einer geführten Geocaching-Tour um das Schloss Waldeck herum mit GPS-Gerät\, Karte\, Laser\, Kryptex und UV Lampe.\nDie außergewöhnliche Kombination von schöner Natur und moderner Technik macht dieses Abenteuer so anziehend. Sie sammeln Hinweise und lösen Rätsel\, um die richtige Route herauszufinden. Mit dem GPS-Gerät folgen Sie den Rätsel- Spuren und kommen so dem Schatz Etappe für Etappe näher.\nBei dieser geführten Tour auf einer inszenierten Route werden Sie mit einer Gruppen 25 bewältigen\, knifflige Fragen beantworten und all Ihr Können unter Beweis stellen. Sie werden: \n\nLösungshinweise mit Hilfe eines Lasers suchen\nLösungshinweise mit einem Kryptex entdecken\nunsichtbare Hinweise mit einer UV-Lampe aufspüren\nmit GPS navigieren\nmit einem Peilkompass eine Wegpunktprojektion durchführen\nsich mit einem Kompass orientieren\nRätsel zu Flora und Fauna\, Märchen und Logik lösen\n\num schließlich den Schatz zu finden. Am Ziel angekommen erwartet Sie eine Überraschung und ein spannenden Erlebnis mit traumhaften Edersee-Ausblicken. \nDie Gäste ziehen Nummern und sind dadurch „Kümmerer“ für das nummerische Rätsel. Dadurch muss sich jeder Gast bei 25 Aufgaben bei einer Gruppen mit 10 bis 11 Gästen um die Lösung von mind. zwei bis drei Aufgaben mit seinen Kollegen kümmern.
URL:https://wocadlo.de/termine/event/geocaching-waldeck_popp/
LOCATION:Parkplatz Schloss Waldeck\, Parkplatz Schloss Waldeck\, 34513
ATTACH;FMTTYPE=image/jpeg:https://wocadlo.de/termine/wp-content/uploads/2022/02/Fotolia_26269390_M_800x600.jpg
ORGANIZER;CN="SEGYTOUR Geocaching":MAILTO:info@wocadlo.de
END:VEVENT
END:VCALENDAR