BEGIN:VCALENDAR
VERSION:2.0
PRODID:-//SEGYTOUR-Termine - ECPv6.15.20//NONSGML v1.0//EN
CALSCALE:GREGORIAN
METHOD:PUBLISH
X-ORIGINAL-URL:https://wocadlo.de/termine
X-WR-CALDESC:Veranstaltungen für SEGYTOUR-Termine
REFRESH-INTERVAL;VALUE=DURATION:PT1H
X-Robots-Tag:noindex
X-PUBLISHED-TTL:PT1H
BEGIN:VTIMEZONE
TZID:Europe/Berlin
BEGIN:DAYLIGHT
TZOFFSETFROM:+0100
TZOFFSETTO:+0200
TZNAME:CEST
DTSTART:20250330T010000
END:DAYLIGHT
BEGIN:STANDARD
TZOFFSETFROM:+0200
TZOFFSETTO:+0100
TZNAME:CET
DTSTART:20251026T010000
END:STANDARD
BEGIN:DAYLIGHT
TZOFFSETFROM:+0100
TZOFFSETTO:+0200
TZNAME:CEST
DTSTART:20260329T010000
END:DAYLIGHT
BEGIN:STANDARD
TZOFFSETFROM:+0200
TZOFFSETTO:+0100
TZNAME:CET
DTSTART:20261025T010000
END:STANDARD
BEGIN:DAYLIGHT
TZOFFSETFROM:+0100
TZOFFSETTO:+0200
TZNAME:CEST
DTSTART:20270328T010000
END:DAYLIGHT
BEGIN:STANDARD
TZOFFSETFROM:+0200
TZOFFSETTO:+0100
TZNAME:CET
DTSTART:20271031T010000
END:STANDARD
END:VTIMEZONE
BEGIN:VEVENT
DTSTART;TZID=Europe/Berlin:20260611T143000
DTEND;TZID=Europe/Berlin:20260611T173000
DTSTAMP:20260420T004758
CREATED:20221117T142557Z
LAST-MODIFIED:20260415T175816Z
UID:5402-1781188200-1781199000@wocadlo.de
SUMMARY:Geführte Geocaching-Tour in Marburg - 30 Personen in 2 Gruppen
DESCRIPTION:Geocaching Altstadt Marburg\nLassen Sie sich auf eine geführte Geocaching-Tour durch die malerische Altstadt von Marburg entführen. Die Route führt Sie vorbei am Botanischen Garten\, der Elisabethkirche\, dem Steinweg\, dem „Christian“\, dem letzten Marburger Dienstmann\, der Marburger Synagoge\, dem „Stein Haus“\, dem beeindruckenden drei-geschossigen Marburger Rathaus\, der Alten Universität\, der Barfüsserstraße\, der Kugelkirche\, dem Kalbstor. Ausgestattet mit einem GPS-Gerät\, einer Karte\, einem Laser und einer UV-Lampe erleben Sie ein spannendes Abenteuer.\nDie einzigartige Verbindung von schöner Natur und moderner Technologie macht diese Tour besonders reizvoll. Sie sammeln Hinweise und lösen Rätsel\, um den richtigen Weg zu finden. Mit dem GPS-Gerät folgen Sie den Spuren der Rätsel und nähern sich so Schritt für Schritt dem verborgenen Schatz. \nDie Gäste ziehen Nummern und sind dadurch „Kümmerer“ für das nummerische Rätsel. Dadurch muss sich jeder Gast bei 25 Aufgaben\, bei 2 Gruppen mit je 15 Gästen um die Lösung von ein bis zwei Aufgaben mit seinen Kollegen*innen kümmern. \nBei dieser geführten Tour auf einer inszenierten Route werden Sie gemeinsam mit 2 Gruppen gleichzeitig 25 Aufgaben in unterschiedlicher Reihenfolge bewältigen\, knifflige Fragen beantworten und all Ihr Können unter Beweis stellen. Sie werden: \n\nLösungshinweise mithilfe eines Lasers suchen\nLösungshinweise mit einem Kryptex entdecken\nunsichtbare Hinweise mit einer UV-Lampe aufspüren\nmit GPS navigieren\nmit einem Peilkompass eine Wegpunktprojektion durchführen\nsich mit einem Kompass orientieren\nRätsel zu Flora und Fauna\, Märchen und Logik lösen\n\num schließlich den Schatz zu finden. Am Ziel angekommen erwartet Sie eine Siegerehrung mit einer Überraschung.
URL:https://wocadlo.de/termine/event/geocaching-tour-marburg_vilavita-2026-06-11/
LOCATION:Congresszentrum Marburg\, Anneliese-Pohl-Allee 3\, Marburg\, 35037\, Germany
ATTACH;FMTTYPE=image/jpeg:https://wocadlo.de/termine/wp-content/uploads/2022/02/geocaching.jpg
ORGANIZER;CN="SEGYTOUR Geocaching":MAILTO:info@wocadlo.de
END:VEVENT
BEGIN:VEVENT
DTSTART;TZID=Europe/Berlin:20260620T110000
DTEND;TZID=Europe/Berlin:20260620T133000
DTSTAMP:20260420T004758
CREATED:20221116T145947Z
LAST-MODIFIED:20260409T130059Z
UID:5553-1781953200-1781962200@wocadlo.de
SUMMARY:Segwaytour Willingen - Plätze frei
DESCRIPTION:Segway Tour Willingen \nErleben Sie eine spannende Rundfahrt zur Diemelquelle und zur EWF Biathlon-Arena\, zur Mühlenkopfschanze sowie zum Skywalk Willingen. Freuen Sie sich auf einen spektakulären Ausblick auf das berühmte Viadukt der Uplandbahn und auf den Hochheideturm\, dessen Plattform den höchsten Aussichtspunkt in Nordwestdeutschland bietet. \nZusätzlich haben Sie die Möglichkeit\, die Graf Stolberg Hütte zu besuchen. \nPreis:             79 Euro pro Person \nDauer:          ca. 2\,5 Stunden + Dauer optionalen Besuch der Graf Stolberg Hütte
URL:https://wocadlo.de/termine/event/segwaytour_zich/
LOCATION:Parkplatz Freizeit-Freibad Usseln\, Sportstraße 4\, Willingen Usseln\, 34508\, Deutschland
CATEGORIES:freie Plätze
ATTACH;FMTTYPE=image/jpeg:https://wocadlo.de/termine/wp-content/uploads/2018/02/Segwaytour-Willingen-Bild-01-Muehlenkopfschanze.jpg
ORGANIZER;CN="SEGYTOUR":MAILTO:info@segytour.de
END:VEVENT
BEGIN:VEVENT
DTSTART;TZID=Europe/Berlin:20260627T150000
DTEND;TZID=Europe/Berlin:20260627T173000
DTSTAMP:20260420T004758
CREATED:20220212T113317Z
LAST-MODIFIED:20260330T081656Z
UID:5542-1782572400-1782581400@wocadlo.de
SUMMARY:Segway-Tour Zündstoff Edersee - freie Plätze
DESCRIPTION:Segway-Tour von Zündstoff Edersee zum Ederseeufer: \nErleben Sie eine unvergessliche Segway-Tour vom Zündstoff Edersee zum Ederseeufer und entdecken Sie die schönsten Sehenswürdigkeiten der Region!\nSie fahren von Zündstoff Edersee zur Dornröschenshöh und zum Yachthafen nach Rehbach. Vom Hafenbecken Rehbach genießen Sie einen wunderbaren Rundblick – nach Süden auf die bewaldeten Berge des Nationalparks Kellerwald-Edersee (UNESCO-Weltnaturerbe)\, nach Westen auf die Halbinsel Scheid und nach Norden in die idyllische Niederwerber Bucht. Weiter geht es entlang des Ederseewestufers\, vorbei am Treetopwalk\, Kletterpark\, Aquapark und zur Sperrmauer und zurück zu Zündstoff-City.
URL:https://wocadlo.de/termine/event/segwaytour-zuendstoff-edersee-blum/
LOCATION:Zündstoff-City\, Am Weiher\, 34549 Hemfurth-Edertal\, Deutschland
CATEGORIES:freie Plätze
ATTACH;FMTTYPE=image/jpeg:https://wocadlo.de/termine/wp-content/uploads/2018/02/a1.jpg
ORGANIZER;CN="SEGYTOUR":MAILTO:info@segytour.de
END:VEVENT
END:VCALENDAR