BEGIN:VCALENDAR
VERSION:2.0
PRODID:-//SEGYTOUR-Termine - ECPv6.15.20//NONSGML v1.0//EN
CALSCALE:GREGORIAN
METHOD:PUBLISH
X-ORIGINAL-URL:https://wocadlo.de/termine
X-WR-CALDESC:Veranstaltungen für SEGYTOUR-Termine
REFRESH-INTERVAL;VALUE=DURATION:PT1H
X-Robots-Tag:noindex
X-PUBLISHED-TTL:PT1H
BEGIN:VTIMEZONE
TZID:Europe/Berlin
BEGIN:DAYLIGHT
TZOFFSETFROM:+0100
TZOFFSETTO:+0200
TZNAME:CEST
DTSTART:20250330T010000
END:DAYLIGHT
BEGIN:STANDARD
TZOFFSETFROM:+0200
TZOFFSETTO:+0100
TZNAME:CET
DTSTART:20251026T010000
END:STANDARD
BEGIN:DAYLIGHT
TZOFFSETFROM:+0100
TZOFFSETTO:+0200
TZNAME:CEST
DTSTART:20260329T010000
END:DAYLIGHT
BEGIN:STANDARD
TZOFFSETFROM:+0200
TZOFFSETTO:+0100
TZNAME:CET
DTSTART:20261025T010000
END:STANDARD
BEGIN:DAYLIGHT
TZOFFSETFROM:+0100
TZOFFSETTO:+0200
TZNAME:CEST
DTSTART:20270328T010000
END:DAYLIGHT
BEGIN:STANDARD
TZOFFSETFROM:+0200
TZOFFSETTO:+0100
TZNAME:CET
DTSTART:20271031T010000
END:STANDARD
END:VTIMEZONE
BEGIN:VEVENT
DTSTART;TZID=Europe/Berlin:20260912T100000
DTEND;TZID=Europe/Berlin:20260912T123000
DTSTAMP:20260420T063121
CREATED:20220212T113317Z
LAST-MODIFIED:20260406T185728Z
UID:5549-1789207200-1789216200@wocadlo.de
SUMMARY:Segway-Tour Zündstoff Edersee - freie Plätze
DESCRIPTION:Segway-Tour von Zündstoff Edersee zum Ederseeufer: \nErleben Sie eine unvergessliche Segway-Tour vom Zündstoff Edersee zum Ederseeufer und entdecken Sie die schönsten Sehenswürdigkeiten der Region!\nSie fahren von Zündstoff Edersee zur Dornröschenshöh und zum Yachthafen nach Rehbach. Vom Hafenbecken Rehbach genießen Sie einen wunderbaren Rundblick – nach Süden auf die bewaldeten Berge des Nationalparks Kellerwald-Edersee (UNESCO-Weltnaturerbe)\, nach Westen auf die Halbinsel Scheid und nach Norden in die idyllische Niederwerber Bucht. Weiter geht es entlang des Ederseewestufers\, vorbei am Treetopwalk\, Kletterpark\, Aquapark und zur Sperrmauer und zurück zu Zündstoff-City.
URL:https://wocadlo.de/termine/event/segwaytour-zuendstoff-jedzek/
LOCATION:Zündstoff-City\, Am Weiher\, 34549 Hemfurth-Edertal\, Deutschland
CATEGORIES:freie Plätze
ATTACH;FMTTYPE=image/jpeg:https://wocadlo.de/termine/wp-content/uploads/2018/02/a1.jpg
ORGANIZER;CN="SEGYTOUR":MAILTO:info@segytour.de
END:VEVENT
END:VCALENDAR